BEGIN:VCALENDAR
VERSION:2.0
PRODID:-//Friends of Fish Creek Provincial Park Society - ECPv6.15.12.2//NONSGML v1.0//EN
CALSCALE:GREGORIAN
METHOD:PUBLISH
X-WR-CALNAME:Friends of Fish Creek Provincial Park Society
X-ORIGINAL-URL:https://friendsoffishcreek.org
X-WR-CALDESC:Events for Friends of Fish Creek Provincial Park Society
REFRESH-INTERVAL;VALUE=DURATION:PT1H
X-Robots-Tag:noindex
X-PUBLISHED-TTL:PT1H
BEGIN:VTIMEZONE
TZID:America/Edmonton
BEGIN:DAYLIGHT
TZOFFSETFROM:-0700
TZOFFSETTO:-0600
TZNAME:MDT
DTSTART:20250309T090000
END:DAYLIGHT
BEGIN:STANDARD
TZOFFSETFROM:-0600
TZOFFSETTO:-0700
TZNAME:MST
DTSTART:20251102T080000
END:STANDARD
BEGIN:DAYLIGHT
TZOFFSETFROM:-0700
TZOFFSETTO:-0600
TZNAME:MDT
DTSTART:20260308T090000
END:DAYLIGHT
BEGIN:STANDARD
TZOFFSETFROM:-0600
TZOFFSETTO:-0700
TZNAME:MST
DTSTART:20261101T080000
END:STANDARD
BEGIN:DAYLIGHT
TZOFFSETFROM:-0700
TZOFFSETTO:-0600
TZNAME:MDT
DTSTART:20270314T090000
END:DAYLIGHT
BEGIN:STANDARD
TZOFFSETFROM:-0600
TZOFFSETTO:-0700
TZNAME:MST
DTSTART:20271107T080000
END:STANDARD
END:VTIMEZONE
BEGIN:VEVENT
DTSTART;TZID=America/Edmonton:20260411T190000
DTEND;TZID=America/Edmonton:20260411T220000
DTSTAMP:20260420T132450
CREATED:20260217T165359Z
LAST-MODIFIED:20260217T165400Z
UID:10009191-1775934000-1775944800@friendsoffishcreek.org
SUMMARY:Star Night: featuring astronomy viewing\, presentations inside\, partner organization booths\, and kids activities.
DESCRIPTION:Join the Friends of Fish Creek and the Royal Astronomical Society of Canada (RASC) for our annual Star Night Event. Gaze at the sky through telescopes provided by RASC and get a closer look at Saturn\, the Moon\, star clusters\, nebulae\, and much more! The fun and discovery is on\, “cloudy or clear!” \n\n\n\nReady to head inside? There’s lots to see there too! We’ll have slide shows\, astronomy\, Fish Creek\, and conservation displays for all ages. Bring your questions about planets\, space probes\, stars and comets\, using telescopes\, plus whatever you want to know about the Park. Our astronomy members and Friends staff have lots of useful information they’d love to share with you. \n 
URL:https://friendsoffishcreek.org/event/star-night-featuring-astronomy-viewing-presentations-inside-partner-organization-booths-and-kids-activities-2/
LOCATION:Fish Creek Environmental Learning Centre\, 15931 Woodpath Rd SW\, Calgary\, T2W 4Z8
ATTACH;FMTTYPE=image/jpeg:https://friendsoffishcreek.org/wp-content/uploads/2025/09/night-sky-with-stars-and-galaxy-2024-09-18-22-41-00-utc-scaled.jpg
END:VEVENT
END:VCALENDAR