BEGIN:VCALENDAR
VERSION:2.0
PRODID:-//Friends of Fish Creek Provincial Park Society - ECPv6.15.12.2//NONSGML v1.0//EN
CALSCALE:GREGORIAN
METHOD:PUBLISH
X-WR-CALNAME:Friends of Fish Creek Provincial Park Society
X-ORIGINAL-URL:https://friendsoffishcreek.org
X-WR-CALDESC:Events for Friends of Fish Creek Provincial Park Society
REFRESH-INTERVAL;VALUE=DURATION:PT1H
X-Robots-Tag:noindex
X-PUBLISHED-TTL:PT1H
BEGIN:VTIMEZONE
TZID:America/Edmonton
BEGIN:DAYLIGHT
TZOFFSETFROM:-0700
TZOFFSETTO:-0600
TZNAME:MDT
DTSTART:20210314T090000
END:DAYLIGHT
BEGIN:STANDARD
TZOFFSETFROM:-0600
TZOFFSETTO:-0700
TZNAME:MST
DTSTART:20211107T080000
END:STANDARD
BEGIN:DAYLIGHT
TZOFFSETFROM:-0700
TZOFFSETTO:-0600
TZNAME:MDT
DTSTART:20220313T090000
END:DAYLIGHT
BEGIN:STANDARD
TZOFFSETFROM:-0600
TZOFFSETTO:-0700
TZNAME:MST
DTSTART:20221106T080000
END:STANDARD
BEGIN:DAYLIGHT
TZOFFSETFROM:-0700
TZOFFSETTO:-0600
TZNAME:MDT
DTSTART:20230312T090000
END:DAYLIGHT
BEGIN:STANDARD
TZOFFSETFROM:-0600
TZOFFSETTO:-0700
TZNAME:MST
DTSTART:20231105T080000
END:STANDARD
END:VTIMEZONE
BEGIN:VEVENT
DTSTART;TZID=America/Edmonton:20220217T190000
DTEND;TZID=America/Edmonton:20220217T200000
DTSTAMP:20260424T015724
CREATED:20220124T183951Z
LAST-MODIFIED:20220318T141042Z
UID:10005919-1645124400-1645128000@friendsoffishcreek.org
SUMMARY:February Speaker Series - Taking Care of Fish Creek
DESCRIPTION:Taking Care of Fish Creek: Update on the Friends’ expanded stewardship efforts\nThursday\, February 17\, 2022 7:00 pm – 8:00 pm on Zoom Presented by Emma Stroud\, Citizen Science & Stewardship Coordinator\, Friends of Fish Creek Provincial Park Society \nThrough the current Enhanced Partnership Pilot with Alberta Environment and Parks\, the Friends of Fish Creek have embarked on an expanded stewardship mission on many levels across the park’s vast land base. Join Friends of Fish Creek Citizen Science and Stewardship Coordinator\, Emma Stroud\, in a Story Map presentation exploring the progress and impact of poplar regeneration efforts\, riparian restoration work and invasive species management conducted in the park in 2021. \nEmma is a University of Calgary alumni who has focused her work in terrestrial and aquatic ecology. Through eight years of volunteer work\, field experience\, and working with industry\, she has refined her interests in conservation and restoration\, narrowing her focus onto the non-profit sector. Exploring tide pools\, creeks\, wetlands\, and rivers have always been favorite pastimes\, making the reality of working in Fish Creek an exciting opportunity. During her time with the Friends of Fish Creek\, she has coordinated the invasive species management program and transferred data collection to a digital platform\, using geospatial data to carry out environmental monitoring programs in the field.  \nRegister through Eventbrite \nIf your organization is interested in supporting the Fish Creek Speaker Series by becoming a Donor or Sponsor\, please email Katie Bakken\, Friends of Fish Creek Community Engagement Facilitator.
URL:https://friendsoffishcreek.org/event/taking-care/
LOCATION:Online\, via Zoom\, Canada
ATTACH;FMTTYPE=image/jpeg:https://friendsoffishcreek.org/wp-content/uploads/2022/01/2021-06-15-Stantec-and-FOFC-nest-search-Lafarge-870x450-1.jpg
ORGANIZER;CN="Friends of Fish Creek":MAILTO:info@friendsoffishcreek.org
GEO:56.130366;-106.346771
END:VEVENT
END:VCALENDAR